Workbook

Sheet fondazioni superficiali
A1: Esempio 1
A2: Eseguire le verifiche allo Stato Limite Ultimo (SLU) di una fondazione superficiale quadrata in c.a. su argilla molle. (Per semplicità si trascura la presenza del pilastro che trasmette il carico alla fondazione).
A10: Dati (il pedice k indica il valore caratteristico, il pedice d indica il valore di progetto):
A11: Carico permanente verticale centrato trasmesso alla fondazione: | G11: Gk = | H11: 270 | I11: kN
A12: Carico variabile verticale centrato trasmesso alla fondazione: | G12: Qk = | H12: 70 | I12: kN
A13: Spessore della fondazione: | G13: s = | H13: 0.5 | I13: m
A14: Lato della fondazione: | G14: B = | H14: 2.75 | I14: m
A15: Profondità del piano di posa della fondazione: | G15: D = | H15: 1 | I15: m
A16: Profondità della falda freatica da p.c.: | G16: Dw = | H16: 0 | I16: m
A17: Peso specifico del c.a.: | G17: gca,k = | H17: 25 | I17: kN/m3
A18: Peso specifico dell’acqua: | G18: gw,k = | H18: 10 | I18: kN/m3
A19: Peso di volume del terreno: | G19: gk = | H19: 18 | I19: kN/m3
A20: Angolo di resistenza al taglio del terreno: | E20: f'k = | F20: 20 | G20: ° = | H20: =F20*PI()/180 -> 0.34906585 | I20: rad
A21: Coesione del terreno: | G21: c'k = | H21: 4 | I21: kPa
A22: Resistenza al taglio non drenata del terreno: | G22: cu,k = | H22: 30 | I22: kPa
A24: Peso totale della fondazione e del terreno sovrastante:
A25: Gfond,k = B2 [(D - s) gk + s gca,k ] = | D25: =$H$14^2*($H$13*$H$17+($H$15-$H$13)*$H$19) -> 162.59375 | E25: kN
A26: Peso immerso della fondazione e del terreno sovrastante:
A27: G'fond,k = Gfond,k - gw B2 D = | D27: =D25-H18*H14^2*H15 -> 86.96875 | E27: kN
A29: Verifiche secondo le Norme Tecniche per le Costruzioni - 2018
A30: Sono eseguite le verifiche allo SLU di tipo geotecnico (GEO) nei confronti del collasso per carico limite dell'insieme fondazione-terreno, tenendo conto dei valori dei coefficienti parziali riportati nelle Tabelle 6.2.I, 6.2.II e 6.4.I.
A31: La Normativa richiede che venga seguito l'approccio DA2 (A1+M1+R3) :
A32: Deve essere rispettata la condizione: | E32: Ed ≤ Rd | F32: ovvero | G32: Rd / Ed ³ 1
A33: a) in condizioni a breve termine, non drenate, il calcolo è eseguito in termini di tensioni totali
A34: Approccio 2 | D34: (A1+M1+R3)
A35: Sono incrementate le azioni (A), invariati i parametri geotecnici (M) e ridotta la resistenza ( R )
A36: Valore di progetto dell’azione (Ed): | E36: Ed = gG (Gk + Gfond,k) + gQ Qk
A37: gG = | B37: 1.3 | C37: (da Tabella 6.2.I colonna A1)
A38: gQ = | B38: 1.5 | C38: (da Tabella 6.2.I colonna A1)
A39: Ed = | B39: =B37*($H$11+$D$25)+B38*$H$12 -> 667.37188 | C39: kN
A40: Resistenza del sistema geotecnico: | F40: R = qlim,d x B2
A41: Capacità portante totale di progetto: | F41: qlim,d = Nc0 cu,d sc0 + qd
A42: Resistenza al taglio non drenata di progetto: | F42: cu,d = cu,k /gcu
A43: gcu = | B43: 1 | C43: (da Tabella 6.2.II colonna M1) | F43: cu,d = | G43: =$H$22/B43 -> 30 | H43: kPa
A44: Pressione totale latistante la fondazione di progetto: | F44: qd = (gk / gg ) D
A45: gg = | B45: 1 | C45: (da Tabella 6.2.II colonna M1) | F45: qd = | G45: =$H$19/B45*$H$15 -> 18 | H45: kPa
A46: Fattore di capacità portante a breve termine: | F46: Nc0 = (2 + p) = | H46: =2+PI() -> 5.1415927
A47: Fattore di forma a breve termine: | F47: sc0 = | G47: 1.2
A48: qlim,d = Nc0 cu,d sc0 + qd = | D48: =$H$46*G43*$G$47+G45 -> 203.09734 | E48: kPa
A49: Resistenza del sistema geotecnico: | F49: R = qlim,d x B2 = | H49: =D48*$H$14^2 -> 1535.9236 | I49: kN
...

Sheet fondazioni profonde
A1: Esempio 1
A2: Resistenza di un palo da prove di carico assiale secondo NTC 2018 (§ 6.4.3.1.1).
A3: terreno di fondazione: | C3: argilla limosa sovraconsolidata con ciottoli e ghiaia
A4: pali ad elica continua
A5: numero di prove di carico: | F5: n = | G5: 3
A6: lunghezza | F6: L = | G6: 23.5 | H6: m
A7: diametro: | F7: d = | G7: 0.8 | H7: m
A8: Carico permanente verticale caratteristico: | F8: Gk = | G8: 2.27 | H8: MN
A9: Carico accidentale verticale caratteristico: | F9: Qk = | G9: 0.57 | H9: MN
A11: Curve carico-cedimento
A12: Palo No 1 | D12: Palo No 2 | G12: Palo No 3
A13: Q | B13: w | C13: w/Q | D13: Q | E13: w | F13: w/Q | G13: Q | H13: w | I13: w/Q
A14: (MN) | B14: (mm) | C14: (mm/MN) | D14: (MN) | E14: (mm) | F14: (mm/MN) | G14: (MN) | H14: (mm) | I14: (mm/MN)
A15: 0 | B15: 0 | D15: 0 | E15: 0 | G15: 0 | H15: 0
A16: 0.71380135 | B16: 0.9 | C16: =B16/A16 -> 1.260855 | D16: 0.71380135 | E16: 0.59 | F16: =E16/D16 -> 0.8265605 | G16: 0.71380135 | H16: 0.61 | I16: =H16/G16 -> 0.8545795
A17: 1.4276027 | B17: 1.56275 | C17: =B17/A17 -> 1.0946673 | D17: 1.4403492 | E17: 1.275 | F17: =E17/D17 -> 0.88520204 | G17: 1.4276027 | H17: 1.47 | I17: =H17/G17 -> 1.0296983
A18: 2.141404 | B18: 2.75925 | C18: =B18/A18 -> 1.2885238 | D18: 2.1541505 | E18: 2.1 | F18: =E18/D18 -> 0.97486225 | G18: 2.141404 | H18: 2.89 | I18: =H18/G18 -> 1.3495818
A19: 2.8552054 | B19: 4.5725 | C19: =B19/A19 -> 1.601461 | D19: 2.8552054 | E19: 3.005 | F19: =E19/D19 -> 1.0524637 | G19: 2.8552054 | H19: 3.8875 | I19: =H19/G19 -> 1.3615483
A20: 3.5690067 | B20: 6.977 | C20: =B20/A20 -> 1.9548856 | D20: 3.5690067 | E20: 4.145 | F20: =E20/D20 -> 1.1613875 | G20: 3.5690067 | H20: 5.43375 | I20: =H20/G20 -> 1.5224824
A21: 4.2828081 | B21: 10.2925 | C21: =B21/A21 -> 2.403213 | D21: 3.9259074 | E21: 4.7075 | F21: =E21/D21 -> 1.1990858 | G21: 4.2828081 | H21: 6.726 | I21: =H21/G21 -> 1.5704649
A22: 4.9966094 | B22: 16.03975 | C22: =B22/A22 -> 3.2101268 | D22: 4.2828081 | E22: 5.38 | F22: =E22/D22 -> 1.2561852 | G22: 4.9966094 | H22: 8.14125 | I22: =H22/G22 -> 1.6293549
A23: 5.7104108 | B23: 25.24925 | C23: =B23/A23 -> 4.4216171 | D23: 4.6397088 | E23: 6.155 | F23: =E23/D23 -> 1.3265919 | G23: 5.5064676 | H23: 11.68 | I23: =H23/G23 -> 2.1211421
D24: 5.0221023 | E24: 7.3325 | F24: =E24/D24 -> 1.4600459 | G24: 5.8633682 | H24: 24.01625 | I24: =H24/G24 -> 4.0959819
D25: 5.3535101 | E25: 8.545 | F25: =E25/D25 -> 1.596149 | G25: 6.1182973 | H25: 34.38 | I25: =H25/G25 -> 5.6192105
D26: 5.7104108 | E26: 10.095 | F26: =E26/D26 -> 1.7678238 | G26: 6.3732263 | H26: 41.0075 | I26: =H26/G26 -> 6.4343392
D27: 6.0673115 | E27: 12.01 | F27: =E27/D27 -> 1.9794599 | G27: 6.8830844 | H27: 58.325 | I27: =H27/G27 -> 8.473672
D28: 6.7811128 | E28: 16.5475 | F28: =E28/D28 -> 2.4402337
D29: 7.2909709 | E29: 21.0825 | F29: =E29/D29 -> 2.8915902
D30: 7.800829 | E30: 26.6275 | F30: =E30/D30 -> 3.4134193
A32: Stima della resistenza con il metodo dell'iperbole di Chin | G32: Q = w / ( m + nw)
A33: (Il metodo di stima utilizzato non è prescritto dalla Normativa)
A34: Prova | B34: 1 | C34: 2 | D34: 3
A35: m = | B35: 0.9863 | C35: 0.7424 | D35: 0.7716 | E35: mm/MN
A36: n = | B36: 0.1367 | C36: 0.101 | D36: 0.135 | E36: MN-1
A37: R2 = | B37: 0.9956 | C37: 0.9992 | D37: 0.9963
A38: wlim (1) = | B38: =8*B35/B36 -> 57.720556 | C38: =8*C35/C36 -> 58.80396 | D38: =8*D35/D36 -> 45.724444 | E38: mm
A39: Qlim (1) = | B39: =B38/(B35+B36*B38) -> 6.5024791 | C39: =C38/(C35+C36*C38) -> 8.8008801 | D39: =D38/(D35+D36*D38) -> 6.5843621 | E39: MN
A40: Qlim (2) = | B40: =0.9/B36 -> 6.5837601 | C40: =0.9/C36 -> 8.9108911 | D40: =0.9/D36 -> 6.6666667 | E40: MN
A41: Qlim = | B41: =(B39+B40)/2 -> 6.5431196 | C41: =(C39+C40)/2 -> 8.8558856 | D41: =(D39+D40)/2 -> 6.6255144 | E41: MN
A43: Si stima il valore limite Qlim di ciascuna prova di carico come media fra i valori stimati con i due seguenti metodi covenzionali:
...

Sheet verifiche idrauliche
A1: Esempio 1
A2: Verifica al sollevamento di una struttura interrata
A3: Vasca in c.a. immersa in terreno sabbioso saturo. Falda coicidente con il piano campagna.
A18: dati geometrici
A19: Be = | B19: 5 | C19: m | D19: Bi = | E19: 4 | F19: m | G19: Hw = | H19: 2.5 | I19: m
A20: Le = | B20: 10 | C20: m | D20: Li = | E20: 9 | F20: m
A21: He = | B21: 3.5 | C21: m | D21: Hi = | E21: 2.8 | F21: m
A22: pesi specifici di progetto
A23: gc.a. = | B23: 25 | C23: kN/m3
A24: gw = | B24: 10 | C24: kN/m3
A25: proprietà geotecniche (valori caratteristici)
A26: gsat,k = | B26: 18 | C26: kN/m3
A27: f'k = | B27: 32 | C27: ° = | D27: =B27*PI()/180 -> 0.55850536 | E27: rad
A28: Verifica nei confronti dello Stato Limite di Sollevamento (UPL) secondo NTC 2018 (§ 6.2.4.2)
A29: Area di base: | D29: Ab = | E29: =B19*B20 -> 50 | F29: m2
A30: Area delle pareti: | D30: As = | E30: =2*B21*(B19+B20) -> 105 | F30: m2
A31: Valori di progetto delle proprietà geotecniche
A32: si applicano i coefficienti parziali di Tabella 6.2.II colonna M2 (gg = 1, gf' = 1.25)
A33: Peso di volume saturo | D33: gsat,d = | E33: 18 | F33: kN/m3
A34: Angolo di resistenza al taglio | D34: f'd = | E34: =180/PI()*ATAN(TAN(D27)/1.25) -> 26.56026 | F34: ° = | G34: =E34*PI()/180 -> 0.46356399 | H34: rad
A35: Peso della vasca | D35: Pv = | E35: =B23*(B19*B20*B21-E19*E20*E21) -> 1855 | F35: kN
A36: Peso dell'acqua nella vasca | D36: Pw = | E36: =B24*(E19*E20*H19) -> 900 | F36: kN
A37: Sottospinta idraulica | D37: U = | E37: =B24*B21*B19*B20 -> 1750 | F37: kN
A38: Tensione verticale efficace in corrispondenza del punto medio delle pareti | D38: s'v,m,d = (gsat,d - gw) He/2 = | G38: =(B26-B24)*B21/2 -> 14 | H38: kPa
A39: Coefficiente di spinta di progetto | D39: Kd = 1 - senf'd = | F39: =1-SIN(G34) -> 0.5528612
A40: Angolo d'attrito parete-terreno di progetto | D40: dd = 0,75 f'd = | F40: =0.75*E34 -> 19.920195 | G40: ° = | H40: =F40*PI()/180 -> 0.34767299 | I40: rad
D41: tan dd = | F41: =TAN(H40) -> 0.36239366
A42: Tensione tangenziale d'interfaccia media di progetto | D42: tmd = Kd tandd s'v,m = | F42: =F39*F41*G38 -> 2.8049475 | G42: kPa
D43: T = tmd As = | F43: =F42*E30 -> 294.51948 | G43: kN
A44: Valori di progetto delle azioni instabilizzanti
A45: si applicano i coefficienti parziali di Tabella 6.2.III (gG1 = 1.1)
D46: Ginst,d = U gG1 = | F46: =E37*1.1 -> 1925 | G46: kN
D47: Vinst,d = | F47: =F46 -> 1925 | G47: kN
A48: Valori di progetto delle azioni stabilizzanti
A49: si applicano i coefficienti parziali di Tabella 6.2.III (gG1 = 0.9, gQ1 = 0)
D50: Gst,d = Pv gG1 = | F50: =E35*0.9 -> 1669.5
D51: Qst,d = Pw gQ1 = | F51: =E36*0 -> 0
A52: Valori di progetto delle azioni resistenti
A53: Resistenza di progetto | D53: Rd = T = | F53: =F42*E30 -> 294.51948 | G53: kN
D54: Gstb,d + Rd = | F54: =F50+F53 -> 1964.0195 | G54: kN
...

Sheet muro in c.a.
A1: Esempio 1
A2: Verifiche agli Stati Limite Ultimi di un muro a mensola in c.a. in accordo con le NTC 2018.
A3: Il muro sostiene un terreno costituito da sabbia ghiaiosa incoerente di densità media con angolo di pendio b = 20°. Il terreno antistante il muro e quello di fondazione hanno le stesse caratteristiche del terreno sostenuto. La superficie di intradosso della soletta di fondazione del muro è gettata in opera a contatto con il terreno. Il livello di falda è molto al di sotto della zona di influenza del muro.
A4: dati geometrici: | C4: (vedi Figura)
A5: altezza del paramento del muro: | G5: h = | H5: 6 | I5: m
A6: profondità del piano di fondazione: | G6: h1 = | H6: 0.8 | I6: m
A7: spessore della soletta di fondazione: | G7: h2 = | H7: 0.8 | I7: m
A8: spessore del paramento verticale alla sommità: | G8: b1 = | H8: 0.5 | I8: m
A9: spessore del paramento verticale alla base: | G9: b3 = | H9: 0.7 | I9: m
A10: lunghezza della scarpa posteriore: | G10: b2 = | H10: 0.95 | I10: m
A11: lunghezza della scarpa anteriore: | D11: (incognita da determinare) | G11: b = | H11: =appunti!A48 -> 3.95 | I11: m
A12: angolo di pendio: | G12: b = | H12: 20 | I12: °
A13: valori caratteristici dei parametri materiali e delle azioni:
A14: angolo di resistenza al taglio del terreno: | G14: f'k = | H14: 32 | I14: °
A15: peso di volume del terreno: | G15: gk = | H15: 20 | I15: kN/m3
A16: angolo di attrito base della fondazione-terreno: | G16: dk = 0.75 f'k = | H16: =0.75*H14 -> 24 | I16: °
A17: peso di volume del c.a.: | G17: gbk = | H17: 25 | I17: kN/m3
A18: sovraccarico sulla supeficie del terrapieno: | G18: qk = | H18: 10 | I18: kPa
A37: Per poter utilizzare lo schema di spinta attiva sulla parete virtuale (linea tratteggiata) è necessario che la lunghezza b sia tale da consentire lo sviluppo di una superficie di rottura piana alla Coulomb (inclinata di (45° + f'k/2) rispetto all'orizzontale) entro il volume di terreno sovrastante la fondazione, ovvero dovrà essere:
A38: bmin = h tan(45°-32°/2) = | C38: =H5*TAN((45-H14/2)*PI()/180) -> 3.3258543 | D38: m | E38: =IF(C38<H11,"condizione soddisfatta","condizione non soddisfatta") -> condizione soddisfatta
G39: b = | H39: =H11 -> 3.95 | I39: m
G40: B = b+b2+b3 = | H40: =H39+H10+H9 -> 5.6 | I40: m
G41: b tanb = | H41: =H39*TAN(H12*PI()/180) -> 1.4376824 | I41: m
G42: H = h1+h+btanb = | H42: =H6+H5+H41 -> 8.2376824 | I42: m
A44: Tutte le verifiche agli SLU (eccetto la verifica di stabilità globale) si eseguono con DA2 (A1+M1+R3)
A45: Coefficienti parziali sulle proprietà geotecniche (M1)
A46: gf' = gc’= gcu = gg = | C46: 1 | E46: da Tabella 6.2.II
A47: j'd = j'k = | C47: 32 | D47: °
A48: gd = gk = | C48: 20 | D48: kN/m3
A49: Coefficiente di spinta attiva | D49: (teoria di Coulomb)
A55: y = | B55: 90 | C55: ° = | D55: =B55*PI()/180 -> 1.5707963 | E55: rad | F55: angolo fra la parete virtuale e l'orizzontale
A56: b = | B56: =H12 -> 20 | C56: ° = | D56: =B56*PI()/180 -> 0.34906585 | E56: rad
A57: f' = | B57: =H14 -> 32 | C57: ° = | D57: =B57*PI()/180 -> 0.55850536 | E57: rad
A58: d = 2/3 f' = | B58: =2/3*B57 -> 21.333333 | C58: ° = | D58: =B58*PI()/180 -> 0.37233691 | E58: rad | F58: angolo fra la normale alla parete virtuale e la spinta attiva
A59: sen(d) = | D59: =SIN(D58) -> 0.3637932
A60: cos(d) = | D60: =COS(D58) -> 0.93147974
A61: sen2(y) = | D61: =SIN(D55)^2 -> 1
A62: sen2(y+f) = | D62: =SIN(D55+D57)^2 -> 0.71918557
A63: sen(y-d) = | D63: =SIN(D55-D58) -> 0.93147974
A64: sen(f+d) = | D64: =SIN(D57+D58) -> 0.80212319
...

Sheet paratia ancorata
A1: Esempio 1
A2: Verifiche agli Stati Limite Ultimi di un diaframma in c.a. con un ordine di tiranti in accordo con le NTC2018.
A3: Schema di calcolo
A19: Si eseguono le verifiche a lungo termine, in tensioni efficaci (condizione di norma più gravosa per la stabilità) con filtrazione in regime permanente nello strato B di argilla.
A20: Si eseguono le verifiche di stabilità con il metodo del supporto libero (struttura di elevata rigidezza). Non si esegue la verifica dei tiranti di ancoraggio. Non si valutano gli spostamenti della struttura.
A21: Dati geometrici
A22: altezza di terreno da sostenere: | F22: H = | G22: 5 | H22: m
A23: profondità del vincolo da p.c.: | F23: a = | G23: 1 | H23: m
A24: angolo di inclinazione del tirante: | F24: b = | G24: 10 | H24: ° = rad | I24: =G24*PI()/180 -> 0.17453293
A25: Spessore dello strato A: | F25: HA = | G25: 4 | H25: m
A26: Profondità di infissione (da determinare) | F26: d = | G26: 6.8179465 | H26: m
A27: Dati sulla falda
A28: profondità della falda a monte da p.c.: | F28: Zw,m = | G28: =G23 -> 1 | H28: m
A29: profondità della falda a valle da p.c.: | F29: Zw,v = | G29: =G22+0.4 -> 5.4 | H29: m
A30: peso di volume dell'acqua: | F30: gw = | G30: 10 | H30: kN/m3
A31: Si assume che la perdita di carico avvenga solo nello Strato B, in modo lineare lungo una linea di flusso aderente alla parete.
A32: perdita di carico: | F32: Dh = | G32: =G29-G28 -> 4.4 | H32: m
A33: Dati geotecnici
A34: Valori caratteristici
A35: Strato A: Sabbia ghiaiosa di media densità
A36: Peso di volume medio sopra falda: | F36: gA = | G36: 18 | H36: kN/m3
A37: Peso di volume medio sotto falda: | F37: gsat,A = | G37: 20 | H37: kN/m3
A38: Angolo di resistenza al taglio: | F38: f'kA = | G38: 35 | H38: ° = rad | I38: =G38*PI()/180 -> 0.61086524
A39: Angolo d'attrito parete-terreno: | F39: dkA = 2/3 f'kA = | G39: =2/3*G38 -> 23.333333 | H39: ° = rad | I39: =G39*PI()/180 -> 0.40724349
A40: Strato B: Argilla consistente e sovraconsolidata
A41: Peso di volume medio: | F41: gB = | G41: 20 | H41: kN/m3
A42: Angolo di resistenza al taglio: | F42: f'kB = | G42: 24 | H42: ° = rad | I42: =G42*PI()/180 -> 0.41887902
A43: Coesione efficace: | F43: c'kB = | G43: 5 | H43: kPa
A44: Angolo d'attrito parete-terreno (lato attivo): | F44: dkB,a = 2/3 f'kB = | G44: =2/3*G42 -> 16 | H44: ° = rad | I44: =G44*PI()/180 -> 0.27925268
A45: Angolo d'attrito parete-terreno (lato passivo): | F45: dkB,p = 1/2 f'kB = | G45: =1/2*G42 -> 12 | H45: ° = rad | I45: =G45*PI()/180 -> 0.20943951
A46: Dati sul carico accidentale:
A47: carico uniforme a monte (azione variabile) : | F47: qk = | G47: 10 | H47: kPa
A48: Calcolo della profondità di infissione minima
A49: Verifica SLU (GEO) | D49: DA1-C2 (A2+M2+R1) | G49: § 6.5.3.1.2
A50: coeff. parz. sui par. di resistenza del terreno (M2) | F50: gM = | G50: 1.25
A51: Valori di progetto
A52: altezza del vincolo da piano scavo: | F52: T = H-a = | G52: =G22-G23 -> 4 | H52: m
A53: profondità nominale dello scavo: | F53: Hd = H + min(0.5;0.1T) = | G53: =G22+MIN(0.5,0.1*G52) -> 5.4 | H53: m | I53: § 6.5.2.2
A54: profondità di infissione di progetto | F54: dd = d - min(0.5;0.1T) = | G54: =G26-MIN(0.5,0.1*G52) -> 6.4179465 | H54: m
A55: lunghezza del percorso di filtrazione: | F55: Lf = 2dd + (Hd - HA) = | G55: =2*G54+(G53-G25) -> 14.235893 | H55: m
...

Sheet Foglio2

Sheet Foglio8

Sheet Foglio9

Sheet appunti
B25: y = | C25: 90 | D25: ° = | E25: =C25*PI()/180 -> 1.5707963 | F25: rad
B26: b = | C26: 20 | D26: ° = | E26: =C26*PI()/180 -> 0.34906585 | F26: rad
B27: f' = | C27: 32 | D27: ° = | E27: =C27*PI()/180 -> 0.55850536 | F27: rad
B28: d = 2/3 f' = | C28: =2/3*C27 -> 21.333333 | D28: ° = | E28: =C28*PI()/180 -> 0.37233691 | F28: rad
B29: sen2(y) = | E29: =SIN(E25)^2 -> 1
B30: sen2(y+f) = | E30: =SIN(E25+E27)^2 -> 0.71918557 | G30: cosb = | H30: =COS(E26) -> 0.93969262
B31: sen(y-d) = | E31: =SIN(E25-E28) -> 0.93147974 | G31: cos2b = | H31: =COS(E26)^2 -> 0.88302222
B32: sen(f+d) = | E32: =SIN(E27+E28) -> 0.80212319 | G32: cos2f = | H32: =COS(E27)^2 -> 0.71918557
B33: sen(f-b) = | E33: =SIN(E27-E26) -> 0.20791169
B34: sen(y+b) = | E34: =SIN(E25+E26) -> 0.93969262
B35: KA = | E35: =E30/(E29*E31*(1+SQRT(E32*E33/E31/E34))^2) -> 0.37416111 | G35: KA = | H35: =(H30-SQRT(H31-H32))/(H30+SQRT(H31-H32)) -> 0.39787365
A45: Condizioni | B45: Statiche | K45: Sismiche
A46: Verifica | B46: Ribaltamento | E46: Scorrimento | H46: Carico limite | K46: Ribaltamento | N46: Scorrimento | Q46: Carico limite
A47: b (m) | B47: Ed | C47: Rd | D47: Rd/Ed | E47: Ed | F47: Rd | G47: Rd/Ed | H47: Ed | I47: Rd | J47: Rd/Ed | K47: Ed | L47: Rd | M47: Rd/Ed | N47: Ed | O47: Rd | P47: Rd/Ed | Q47: Ed | R47: Rd | S47: Rd/Ed
A48: 3.95 | B48: ='muro in c.a.'!E139 -> 254.99581 | C48: ='muro in c.a.'!C145 -> 2001.0697 | D48: =C48/B48 -> 7.8474609 | E48: ='muro in c.a.'!C156 -> 350.52318 | F48: ='muro in c.a.'!C154 -> 352.00861 | G48: =F48/E48 -> 1.0042378 | H48: ='muro in c.a.'!C176 -> 836.36974 | I48: ='muro in c.a.'!C177 -> 1263.7389 | J48: =I48/H48 -> 1.5109811 | K48: ='muro in c.a.'!D291 -> 227.19085 | L48: ='muro in c.a.'!D293 -> 2144.5559 | M48: =L48/K48 -> 9.439447 | N48: ='muro in c.a.'!D298 -> 372.28114 | O48: ='muro in c.a.'!D301 -> 457.86508 | P48: =O48/N48 -> 1.2298906 | Q48: ='muro in c.a.'!C324 -> 832.65463 | R48: ='muro in c.a.'!C325 -> 1263.0292 | S48: =R48/Q48 -> 1.5168705
A50: Condizioni | B50: Statiche | K50: Sismiche
A51: Verifica | B51: Ribaltamento | E51: Scorrimento | H51: Carico limite | K51: Ribaltamento | N51: Scorrimento | Q51: Carico limite
A52: b (m) | B52: Ed | C52: Rd | D52: Rd/Ed | E52: Ed | F52: Rd | G52: Rd/Ed | H52: Ed | I52: Rd | J52: Rd/Ed | K52: Ed | L52: Rd | M52: Rd/Ed | N52: Ed | O52: Rd | P52: Rd/Ed | Q52: Ed | R52: Rd | S52: Rd/Ed
A53: 3.4 | B53: 292.88726 | C53: 1606.27 | D53: 5.4842603 | E53: 334.71517 | F53: 312.38837 | G53: 0.9332961 | H53: 739.94903 | I53: 832.53548 | J53: 1.1251254 | K53: 262.13833 | L53: 1709.8501 | M53: 6.5227019 | N53: 351.28764 | O53: 411.958 | P53: 1.1727085 | Q53: 738.44039 | R53: 844.77755 | S53: 1.1440024
A54: 3.6 | B54: 279.61471 | C54: 1744.6184 | D54: 6.2393657 | E54: 340.42152 | F54: 326.68596 | G54: 0.95965132 | H54: 774.7437 | I54: 979.23631 | J54: 1.2639487 | K54: 249.89817 | L54: 1861.9655 | M54: 7.4508967 | N54: 358.86473 | O54: 428.52458 | P54: 1.1941117 | Q54: 772.43894 | R54: 987.3524 | S54: 1.2782271
A55: 3.8 | B55: 265.76563 | C55: 1888.9178 | D55: 7.1074568 | E55: 346.17589 | F55: 341.109 | G55: 0.98536326 | H55: 809.84398 | I55: 1137.5366 | J55: 1.4046367 | K55: 237.12495 | L55: 2020.8815 | M55: 8.5224329 | N55: 366.50686 | O55: 445.2362 | P55: 1.21481 | Q55: 806.73597 | R55: 1140.8474 | S55: 1.4141521
A56: 4 | B56: 251.33227 | C56: 2039.2048 | D56: 8.1135812 | E56: 351.97828 | F56: 355.65749 | G56: 1.010453 | H56: 845.24986 | I56: 1307.2114 | J56: 1.5465385 | K56: 223.81142 | L56: 2186.639 | M56: 9.7700064 | N56: 374.21403 | O56: 462.09284 | P56: 1.2348357 | Q56: 841.33149 | R56: 1305.0863 | S56: 1.5512153
A57: 4.2 | B57: 236.30688 | C57: 2195.5164 | D57: 9.2909545 | E57: 357.82868 | F57: 370.33142 | G57: 1.0349406 | H57: 880.96135 | I57: 1488.0314 | J57: 1.6890995 | K57: 209.95036 | L57: 2359.2789 | M57: 11.237318 | N57: 381.98624 | O57: 479.09452 | P57: 1.2542193 | Q57: 876.2255 | R57: 1479.887 | S57: 1.6889339
A58: 4.4 | B58: 220.68168 | C58: 2357.8895 | D58: 10.684573 | E58: 363.7271 | F58: 385.1308 | G58: 1.0588455 | H58: 916.97843 | I58: 1679.7668 | J58: 1.8318498 | K58: 195.53455 | L58: 2538.8422 | M58: 12.984111 | N58: 389.82349 | O58: 496.24122 | P58: 1.2729895 | Q58: 911.41799 | R58: 1665.0647 | S58: 1.8268947
A59: 4.6 | B59: 204.44894 | C59: 2526.3609 | D59: 12.356928 | E59: 369.67354 | F59: 400.05562 | G59: 1.0821863 | H59: 953.30112 | I59: 1882.1902 | J59: 1.9743921 | K59: 180.55676 | L59: 2725.3698 | M59: 15.094255 | N59: 397.72579 | O59: 513.53296 | P59: 1.2911734 | Q59: 946.90897 | R59: 1860.4345 | S59: 1.9647448
A61: linea 1
A62: 3.2 | B62: 1
A63: 4.8 | B63: 1
A66: paratia | C66: tirante
A67: 0 | B67: 0 | C67: 1 | D67: 0
A68: =A77 -> 11.817946 | B68: 0 | C68: 1 | D68: -60
B70: DA1-C2 | C70: DA1-C1
A71: Z (m) | B71: sh (kPa) | C71: sh (kPa)
A72: ='paratia ancorata'!B147 -> 0 | B72: ='paratia ancorata'!G147 -> 3.9783469 | C72: ='paratia ancorata'!G297 -> 4.765985
A73: ='paratia ancorata'!B148 -> 1 | B73: ='paratia ancorata'!G148 -> 9.4868272 | C73: ='paratia ancorata'!G298 -> 10.485167
A74: ='paratia ancorata'!B149 -> 4 | B74: ='paratia ancorata'!G149 -> 48.667628 | C74: ='paratia ancorata'!G299 -> 50.017137
A75: ='paratia ancorata'!B150 -> 4 | B75: ='paratia ancorata'!G150 -> 51.793944 | C75: ='paratia ancorata'!G300 -> 52.753692
A76: ='paratia ancorata'!B151 -> 5.4 | B76: ='paratia ancorata'!G151 -> 69.617614 | C76: ='paratia ancorata'!G301 -> 71.361738
A77: ='paratia ancorata'!B152 -> 11.817946 | B77: ='paratia ancorata'!G152 -> 151.32573 | C77: ='paratia ancorata'!G302 -> 156.66562
A78: ='paratia ancorata'!B156 -> 11.817946 | B78: =-'paratia ancorata'!G156 -> -211.14977 | C78: =-'paratia ancorata'!G306 -> -215.7555
...

Sheet Foglio5

Sheet Foglio6

Sheet Foglio7

Sheet Foglio4

Sheet Foglio3

Sheet Foglio1
